BEGIN:VCALENDAR
PRODID:-//Sri Lanka Promotions//NONSGML v1.0//EN
VERSION:2.0
CALSCALE:GREGORIAN
METHOD:PUBLISH
X-WR-CALNAME:Sri Lanka Promotions
X-ORIGINAL-URL:https://srilanka-promotions.com
X-WR-CALDESC:Events for Sri Lanka Promotions
BEGIN:VEVENT
DTSTART:20151004T000000
DTEND:20151012T235900
DTSTAMP:20260422T104109
CREATED:20151003T124916
LAST-MODIFIED:20151003T124916
UID:8775@https://srilanka-promotions.com
SUMMARY:MiniInTheBox US$20 OFF US$200 Spend Storewide Coupon Code 4 - 12 Oct 2015
DESCRIPTION:Get US$20 OFF when you make a minimum purchase of US$200. FREE *worldwide* shipping.. For more information, visit [ https://srilanka-promotions.com/department-stores/miniinthebox-us20-off-us200-spend-storewide-coupon-code-4-12-oct-2015-8775/ ]. 
LOCATION:
URL:https://srilanka-promotions.com/department-stores/miniinthebox-us20-off-us200-spend-storewide-coupon-code-4-12-oct-2015-8775/
END:VEVENT
END:VCALENDAR