BEGIN:VCALENDAR
PRODID:-//Sri Lanka Promotions//NONSGML v1.0//EN
VERSION:2.0
CALSCALE:GREGORIAN
METHOD:PUBLISH
X-WR-CALNAME:Sri Lanka Promotions
X-ORIGINAL-URL:https://srilanka-promotions.com
X-WR-CALDESC:Events for Sri Lanka Promotions
BEGIN:VEVENT
DTSTART:20151128T000000
DTEND:20151130T235900
DTSTAMP:20260419T162633
CREATED:20151115T111948
LAST-MODIFIED:20151115T111948
UID:8893@https://srilanka-promotions.com
SUMMARY:LightInTheBox $9 OFF $75 Spend Storewide Cyber Monday Coupon Code 28 - 30 Nov 2015
DESCRIPTION:Get $9 off when you make a minimum purchase of $75.. For more information, visit [ https://srilanka-promotions.com/department-stores/lightinthebox-9-off-75-spend-storewide-cyber-monday-coupon-code-28-30-nov-2015-8893/ ]. 
LOCATION:
URL:https://srilanka-promotions.com/department-stores/lightinthebox-9-off-75-spend-storewide-cyber-monday-coupon-code-28-30-nov-2015-8893/
END:VEVENT
END:VCALENDAR