BEGIN:VCALENDAR
PRODID:-//Sri Lanka Promotions//NONSGML v1.0//EN
VERSION:2.0
CALSCALE:GREGORIAN
METHOD:PUBLISH
X-WR-CALNAME:Sri Lanka Promotions
X-ORIGINAL-URL:https://srilanka-promotions.com
X-WR-CALDESC:Events for Sri Lanka Promotions
BEGIN:VEVENT
DTSTART:20151115T000000
DTEND:20151115T235900
DTSTAMP:20260423T104440
CREATED:20151115T112259
LAST-MODIFIED:20151115T112259
UID:8912@https://srilanka-promotions.com
SUMMARY:GOG 70% to 90% Off PC Games Big Fall Sale 15 Nov 2015
DESCRIPTION:Welcome to the Big Fall Sale - 11 days of new daily deals every 12 hours, a new set of bundles every 24 hours and free games to unlock.. For more information, visit [ https://srilanka-promotions.com/computers-accessories-software/gog-70-to-90-off-pc-games-big-fall-sale-15-nov-2015-8912/ ]. 
LOCATION:
URL:https://srilanka-promotions.com/computers-accessories-software/gog-70-to-90-off-pc-games-big-fall-sale-15-nov-2015-8912/
END:VEVENT
END:VCALENDAR