BEGIN:VCALENDAR
PRODID:-//Sri Lanka Promotions//NONSGML v1.0//EN
VERSION:2.0
CALSCALE:GREGORIAN
METHOD:PUBLISH
X-WR-CALNAME:Sri Lanka Promotions
X-ORIGINAL-URL:https://srilanka-promotions.com
X-WR-CALDESC:Events for Sri Lanka Promotions
BEGIN:VEVENT
DTSTART:20160614T000000
DTEND:20160621T235900
DTSTAMP:20260423T045910
CREATED:20160618T221741
LAST-MODIFIED:20160618T221741
UID:9142@https://srilanka-promotions.com
SUMMARY:Parallels Desktop for Mac 25% Off Birthday Sale from 14 - 21 Jun 2016
DESCRIPTION:For a limited time, get 25% off Parallels Desktop 11 for Mac Full License. For more information, visit [ https://srilanka-promotions.com/computers-accessories-software/parallels-desktop-for-mac-25-off-birthday-sale-from-14-21-jun-2016-9142/ ]. 
LOCATION:
URL:https://srilanka-promotions.com/computers-accessories-software/parallels-desktop-for-mac-25-off-birthday-sale-from-14-21-jun-2016-9142/
END:VEVENT
END:VCALENDAR