BEGIN:VCALENDAR
PRODID:-//Sri Lanka Promotions//NONSGML v1.0//EN
VERSION:2.0
CALSCALE:GREGORIAN
METHOD:PUBLISH
X-WR-CALNAME:Sri Lanka Promotions
X-ORIGINAL-URL:https://srilanka-promotions.com
X-WR-CALDESC:Events for Sri Lanka Promotions
BEGIN:VEVENT
DTSTART:20160624T000000
DTEND:20160704T235900
DTSTAMP:20260423T045844
CREATED:20160624T111107
LAST-MODIFIED:20160624T111115
UID:9159@https://srilanka-promotions.com
SUMMARY:Steam Summer Sale from 24 Jun - 4 Jul 2016
DESCRIPTION:The Steam Summer Sale has started! For the next 11 days, take advantage of discounts on thousands of products, including games, videos, and software, as well as the exclusive Summer Picnic Sale trading cards.. For more information, visit [ https://srilanka-promotions.com/computers-accessories-software/steam-summer-sale-from-24-jun-4-jul-2016-9159/ ]. 
LOCATION:
URL:https://srilanka-promotions.com/computers-accessories-software/steam-summer-sale-from-24-jun-4-jul-2016-9159/
END:VEVENT
END:VCALENDAR