BEGIN:VCALENDAR
PRODID:-//Sri Lanka Promotions//NONSGML v1.0//EN
VERSION:2.0
CALSCALE:GREGORIAN
METHOD:PUBLISH
X-WR-CALNAME:Sri Lanka Promotions
X-ORIGINAL-URL:https://srilanka-promotions.com
X-WR-CALDESC:Events for Sri Lanka Promotions
BEGIN:VEVENT
DTSTART:20160830T000000
DTEND:20160831T235900
DTSTAMP:20260423T104507
CREATED:20160829T235958
LAST-MODIFIED:20160830T113314
UID:9240@https://srilanka-promotions.com
SUMMARY:KFC: Buy 2 Get 1 Free Chicken Buriyani at Selected Outlets from 30 - 31 Aug 2016
DESCRIPTION:It's a great day for those near Kiribathgoda, Kandy, Peradeniya, katugastota, Kurunegala, Galle and Ratnapura KFC outlets. For more information, visit [ https://srilanka-promotions.com/dining-restaurants-food/kfc-buy-2-get-1-free-chicken-buriyani-at-selected-outlets-from-30-31-aug-2016-9240/ ]. 
LOCATION:
URL:https://srilanka-promotions.com/dining-restaurants-food/kfc-buy-2-get-1-free-chicken-buriyani-at-selected-outlets-from-30-31-aug-2016-9240/
END:VEVENT
END:VCALENDAR