BEGIN:VCALENDAR
PRODID:-//Sri Lanka Promotions//NONSGML v1.0//EN
VERSION:2.0
CALSCALE:GREGORIAN
METHOD:PUBLISH
X-WR-CALNAME:Sri Lanka Promotions
X-ORIGINAL-URL:https://srilanka-promotions.com
X-WR-CALDESC:Events for Sri Lanka Promotions
BEGIN:VEVENT
DTSTART:20191128T000000
DTEND:20191204T235900
DTSTAMP:20260424T011548
CREATED:20191127T133801
LAST-MODIFIED:20191126T133850
UID:9381@https://srilanka-promotions.com
SUMMARY:HostGator: Up to 70% OFF select web hosting plans and free domains Black Friday & Cyber Monday promo from 28 Nov - 4 Dec 2019
DESCRIPTION:Get up to 70% off web hosting plans at HostGator. For more information, visit [ https://srilanka-promotions.com/computers-accessories-software/hostgator-up-to-70-off-select-web-hosting-plans-and-free-domains-black-friday-cyber-monday-promo-from-28-nov-4-dec-2019-9381/ ]. 
LOCATION:
URL:https://srilanka-promotions.com/computers-accessories-software/hostgator-up-to-70-off-select-web-hosting-plans-and-free-domains-black-friday-cyber-monday-promo-from-28-nov-4-dec-2019-9381/
END:VEVENT
END:VCALENDAR