BEGIN:VCALENDAR
PRODID:-//Sri Lanka Promotions//NONSGML v1.0//EN
VERSION:2.0
CALSCALE:GREGORIAN
METHOD:PUBLISH
X-WR-CALNAME:Sri Lanka Promotions
X-ORIGINAL-URL:https://srilanka-promotions.com
X-WR-CALDESC:Events for Sri Lanka Promotions
BEGIN:VEVENT
DTSTART:20191128T000000
DTEND:20191203T235900
DTSTAMP:20260421T090817
CREATED:20191128T212529
LAST-MODIFIED:20191128T212529
UID:9385@https://srilanka-promotions.com
SUMMARY:GOG.com: Black Friday Sale - 2000+ deals up to 90% off till 3 December 2019
DESCRIPTION:This year's Black Friday Sale starts now with discounts up to 90% off.. For more information, visit [ https://srilanka-promotions.com/news/gog-com-black-friday-sale-2000-deals-up-to-90-off-till-3-december-2019-9385/ ]. 
LOCATION:
URL:https://srilanka-promotions.com/news/gog-com-black-friday-sale-2000-deals-up-to-90-off-till-3-december-2019-9385/
END:VEVENT
END:VCALENDAR