BEGIN:VCALENDAR
PRODID:-//Sri Lanka Promotions//NONSGML v1.0//EN
VERSION:2.0
CALSCALE:GREGORIAN
METHOD:PUBLISH
X-WR-CALNAME:Sri Lanka Promotions
X-ORIGINAL-URL:https://srilanka-promotions.com
X-WR-CALDESC:Events for Sri Lanka Promotions
BEGIN:VEVENT
DTSTART:20211029T000000
DTEND:20211103T235900
DTSTAMP:20260423T043504
CREATED:20211028T221204
LAST-MODIFIED:20211028T221204
UID:9518@https://srilanka-promotions.com
SUMMARY:Acronis: Save up to 50% off Acronis Cyber Protect Home Office with their latest Halloween promo till 3 Nov 2021
DESCRIPTION:Save yourself from a cybersecurity horror. For more information, visit [ https://srilanka-promotions.com/computers-accessories-software/acronis-save-up-to-50-off-acronis-cyber-protect-home-office-with-their-latest-halloween-promo-till-3-nov-2021-9518/ ]. 
LOCATION:
URL:https://srilanka-promotions.com/computers-accessories-software/acronis-save-up-to-50-off-acronis-cyber-protect-home-office-with-their-latest-halloween-promo-till-3-nov-2021-9518/
END:VEVENT
END:VCALENDAR