BEGIN:VCALENDAR
PRODID:-//Sri Lanka Promotions//NONSGML v1.0//EN
VERSION:2.0
CALSCALE:GREGORIAN
METHOD:PUBLISH
X-WR-CALNAME:Sri Lanka Promotions
X-ORIGINAL-URL:https://srilanka-promotions.com
X-WR-CALDESC:Events for Sri Lanka Promotions
BEGIN:VEVENT
DTSTART:20220324T000000
DTEND:20220326T235900
DTSTAMP:20260423T133137
CREATED:20220323T112220
LAST-MODIFIED:20220323T112323
UID:9664@https://srilanka-promotions.com
SUMMARY:Up to 50% OFF on Electronics & Home Appliances at Singer Warehouse Clearance Sale from 24 to 26 March 2022
DESCRIPTION:Up to 50% OFF on Electronics & Home Appliances. For more information, visit [ https://srilanka-promotions.com/warehouse-sales/up-to-50-off-on-electronics-home-appliances-at-singer-warehouse-clearance-sale-from-24-to-26-march-2022-9664/ ]. 
LOCATION:
URL:https://srilanka-promotions.com/warehouse-sales/up-to-50-off-on-electronics-home-appliances-at-singer-warehouse-clearance-sale-from-24-to-26-march-2022-9664/
END:VEVENT
END:VCALENDAR