BEGIN:VCALENDAR
PRODID:-//Sri Lanka Promotions//NONSGML v1.0//EN
VERSION:2.0
CALSCALE:GREGORIAN
METHOD:PUBLISH
X-WR-CALNAME:Sri Lanka Promotions
X-ORIGINAL-URL:https://srilanka-promotions.com
X-WR-CALDESC:Events for Sri Lanka Promotions
BEGIN:VEVENT
DTSTART:20120707T000000
DTEND:20120819T235900
DTSTAMP:20260420T234636
CREATED:20120707T170949
LAST-MODIFIED:20120707T171404
UID:968@https://srilanka-promotions.com
SUMMARY:Nolimit Sri Lanka 10% Off Shalwars, Shalwar Materials & Abayas 7 Jul - 19 Aug 2012
DESCRIPTION:Nolimit is offering a 10% off discount on all shalwars, shalwar materials and abayas from 7 July to 19 August 2012 at all its showrooms islandwide. For more information, visit [ https://srilanka-promotions.com/fashion-accessories/nolimit-sri-lanka-10-off-shalwars-shalwar-materials-abayas-7-jul-19-aug-2012-968/ ]. 
LOCATION:
URL:https://srilanka-promotions.com/fashion-accessories/nolimit-sri-lanka-10-off-shalwars-shalwar-materials-abayas-7-jul-19-aug-2012-968/
END:VEVENT
END:VCALENDAR