BEGIN:VCALENDAR
PRODID:-//Sri Lanka Promotions//NONSGML v1.0//EN
VERSION:2.0
CALSCALE:GREGORIAN
METHOD:PUBLISH
X-WR-CALNAME:Sri Lanka Promotions
X-ORIGINAL-URL:https://srilanka-promotions.com
X-WR-CALDESC:Events for Sri Lanka Promotions
BEGIN:VEVENT
DTSTART:20220408T000000
DTEND:20220410T235900
DTSTAMP:20260422T195436
CREATED:20220408T094619
LAST-MODIFIED:20220408T164955
UID:9692@https://srilanka-promotions.com
SUMMARY:Pizza Hut Sri Lanka: Buy any 2 Medium / Large Pizzas and get up to Rs. 1000 off till Apr. 10, 2022
DESCRIPTION:Valid on both Pan & Thin Crust Pizzas.. For more information, visit [ https://srilanka-promotions.com/dining-restaurants-food/pizza-hut-sri-lanka-buy-any-2-medium-large-pizzas-and-get-up-to-rs-1000-off-till-apr-10-2022-9692/ ]. 
LOCATION:
URL:https://srilanka-promotions.com/dining-restaurants-food/pizza-hut-sri-lanka-buy-any-2-medium-large-pizzas-and-get-up-to-rs-1000-off-till-apr-10-2022-9692/
END:VEVENT
END:VCALENDAR