BEGIN:VCALENDAR
PRODID:-//Sri Lanka Promotions//NONSGML v1.0//EN
VERSION:2.0
CALSCALE:GREGORIAN
METHOD:PUBLISH
X-WR-CALNAME:Sri Lanka Promotions
X-ORIGINAL-URL:https://srilanka-promotions.com
X-WR-CALDESC:Events for Sri Lanka Promotions
BEGIN:VEVENT
DTSTART:20220427T000000
DTEND:20220430T235900
DTSTAMP:20260422T195429
CREATED:20220427T140812
LAST-MODIFIED:20220427T140812
UID:9711@https://srilanka-promotions.com
SUMMARY:Pizza Hut Sri Lanka: Buy any 2 Medium / Large Pizzas and get up to Rs. 1000 off till Apr. 30, 2022
DESCRIPTION:Wind-up the month with Pizza Hut's super MONTH END Offer. For more information, visit [ https://srilanka-promotions.com/dining-restaurants-food/pizza-hut-sri-lanka-buy-any-2-medium-large-pizzas-and-get-up-to-rs-1000-off-till-apr-30-2022-9711/ ]. 
LOCATION:
URL:https://srilanka-promotions.com/dining-restaurants-food/pizza-hut-sri-lanka-buy-any-2-medium-large-pizzas-and-get-up-to-rs-1000-off-till-apr-30-2022-9711/
END:VEVENT
END:VCALENDAR