BEGIN:VCALENDAR
PRODID:-//Sri Lanka Promotions//NONSGML v1.0//EN
VERSION:2.0
CALSCALE:GREGORIAN
METHOD:PUBLISH
X-WR-CALNAME:Sri Lanka Promotions
X-ORIGINAL-URL:https://srilanka-promotions.com
X-WR-CALDESC:Events for Sri Lanka Promotions
BEGIN:VEVENT
DTSTART:20220504T000000
DTEND:20220504T235900
DTSTAMP:20260423T151014
CREATED:20220504T133439
LAST-MODIFIED:20220513T134646
UID:9714@https://srilanka-promotions.com
SUMMARY:KFC is offering 10pcs chicken for only Rs. 2,750 on Wednesdays (From 4 May 2022)
DESCRIPTION:Everybody deserves a midweek crunch so why not have yours from KFC?. For more information, visit [ https://srilanka-promotions.com/dining-restaurants-food/kfc-is-offering-10pcs-chicken-for-only-rs-2750-on-wednesdays-from-4-may-2022-9714/ ]. 
LOCATION:
URL:https://srilanka-promotions.com/dining-restaurants-food/kfc-is-offering-10pcs-chicken-for-only-rs-2750-on-wednesdays-from-4-may-2022-9714/
END:VEVENT
END:VCALENDAR