BEGIN:VCALENDAR
PRODID:-//Sri Lanka Promotions//NONSGML v1.0//EN
VERSION:2.0
CALSCALE:GREGORIAN
METHOD:PUBLISH
X-WR-CALNAME:Sri Lanka Promotions
X-ORIGINAL-URL:https://srilanka-promotions.com
X-WR-CALDESC:Events for Sri Lanka Promotions
BEGIN:VEVENT
DTSTART:20221126T000000
DTEND:20221204T235900
DTSTAMP:20260423T232929
CREATED:20221126T081100
LAST-MODIFIED:20221126T081100
UID:9768@https://srilanka-promotions.com
SUMMARY:Namecheap offering up to 76% off with CloudLinux cPanel shared web hosting Black Friday offer till 4 Dec 2022
DESCRIPTION:Huge savings on domains, hosting, SSL Certificates, and security products. For more information, visit [ https://srilanka-promotions.com/computers-accessories-software/namecheap-offering-up-to-76-off-with-cloudlinux-cpanel-shared-web-hosting-black-friday-offer-till-4-dec-2022-9768/ ]. 
LOCATION:
URL:https://srilanka-promotions.com/computers-accessories-software/namecheap-offering-up-to-76-off-with-cloudlinux-cpanel-shared-web-hosting-black-friday-offer-till-4-dec-2022-9768/
END:VEVENT
END:VCALENDAR