BEGIN:VCALENDAR
PRODID:-//Sri Lanka Promotions//NONSGML v1.0//EN
VERSION:2.0
CALSCALE:GREGORIAN
METHOD:PUBLISH
X-WR-CALNAME:Sri Lanka Promotions
X-ORIGINAL-URL:https://srilanka-promotions.com
X-WR-CALDESC:Events for Sri Lanka Promotions
BEGIN:VEVENT
DTSTART:20230315T000000
DTEND:20230315T235900
DTSTAMP:20260422T180124
CREATED:20230315T083953
LAST-MODIFIED:20230315T083953
UID:9809@https://srilanka-promotions.com
SUMMARY:Burger King Sri Lanka has Buy-1-Get-1-Free Big King Chicken burgers on Wed 15 Mar 2023, pay only Rs. 800 each
DESCRIPTION:Available for Dine-in, Takeaway, and Delivery. For more information, visit [ https://srilanka-promotions.com/dining-restaurants-food/burger-king-sri-lanka-has-buy-1-get-1-free-big-king-chicken-burgers-on-wed-15-mar-2023-pay-only-rs-800-each-9809/ ]. 
LOCATION:
URL:https://srilanka-promotions.com/dining-restaurants-food/burger-king-sri-lanka-has-buy-1-get-1-free-big-king-chicken-burgers-on-wed-15-mar-2023-pay-only-rs-800-each-9809/
END:VEVENT
END:VCALENDAR