BEGIN:VCALENDAR
PRODID:-//Sri Lanka Promotions//NONSGML v1.0//EN
VERSION:2.0
CALSCALE:GREGORIAN
METHOD:PUBLISH
X-WR-CALNAME:Sri Lanka Promotions
X-ORIGINAL-URL:https://srilanka-promotions.com
X-WR-CALDESC:Events for Sri Lanka Promotions
BEGIN:VEVENT
DTSTART:20230425T000000
DTEND:20230425T235900
DTSTAMP:20260423T120922
CREATED:20230425T113445
LAST-MODIFIED:20230425T113445
UID:9845@https://srilanka-promotions.com
SUMMARY:Pizza Hut Sri Lanka Buy 1 Select Large Pan Pizza & Get 1 Classic Large Pan Pizza FREE on 25 April 2023
DESCRIPTION:For dine-in orders. For more information, visit [ https://srilanka-promotions.com/dining-restaurants-food/pizza-hut-sri-lanka-buy-1-select-large-pan-pizza-get-1-classic-large-pan-pizza-free-on-25-april-2023-9845/ ]. 
LOCATION:
URL:https://srilanka-promotions.com/dining-restaurants-food/pizza-hut-sri-lanka-buy-1-select-large-pan-pizza-get-1-classic-large-pan-pizza-free-on-25-april-2023-9845/
END:VEVENT
END:VCALENDAR