BEGIN:VCALENDAR
PRODID:-//Sri Lanka Promotions//NONSGML v1.0//EN
VERSION:2.0
CALSCALE:GREGORIAN
METHOD:PUBLISH
X-WR-CALNAME:Sri Lanka Promotions
X-ORIGINAL-URL:https://srilanka-promotions.com
X-WR-CALDESC:Events for Sri Lanka Promotions
BEGIN:VEVENT
DTSTART:20230707T000000
DTEND:20230831T235900
DTSTAMP:20260421T124108
CREATED:20230707T153551
LAST-MODIFIED:20230707T153551
UID:9912@https://srilanka-promotions.com
SUMMARY:O&O Software offering 50% OFF all products promo coupon code with no min spend till 31 Aug 2023
DESCRIPTION:Tools for Windows. For more information, visit [ https://srilanka-promotions.com/computers-accessories-software/oo-software-offering-50-off-all-products-promo-coupon-code-with-no-min-spend-till-31-aug-2023-9912/ ]. 
LOCATION:
URL:https://srilanka-promotions.com/computers-accessories-software/oo-software-offering-50-off-all-products-promo-coupon-code-with-no-min-spend-till-31-aug-2023-9912/
END:VEVENT
END:VCALENDAR